BEGIN:VCALENDAR
VERSION:2.0
PRODID:-//VPI Employment Services - ECPv6.15.20//NONSGML v1.0//EN
CALSCALE:GREGORIAN
METHOD:PUBLISH
X-WR-CALNAME:VPI Employment Services
X-ORIGINAL-URL:https://www.vpi-inc.com
X-WR-CALDESC:Events for VPI Employment Services
REFRESH-INTERVAL;VALUE=DURATION:PT1H
X-Robots-Tag:noindex
X-PUBLISHED-TTL:PT1H
BEGIN:VTIMEZONE
TZID:America/Toronto
BEGIN:DAYLIGHT
TZOFFSETFROM:-0500
TZOFFSETTO:-0400
TZNAME:EDT
DTSTART:20250309T070000
END:DAYLIGHT
BEGIN:STANDARD
TZOFFSETFROM:-0400
TZOFFSETTO:-0500
TZNAME:EST
DTSTART:20251102T060000
END:STANDARD
BEGIN:DAYLIGHT
TZOFFSETFROM:-0500
TZOFFSETTO:-0400
TZNAME:EDT
DTSTART:20260308T070000
END:DAYLIGHT
BEGIN:STANDARD
TZOFFSETFROM:-0400
TZOFFSETTO:-0500
TZNAME:EST
DTSTART:20261101T060000
END:STANDARD
BEGIN:DAYLIGHT
TZOFFSETFROM:-0500
TZOFFSETTO:-0400
TZNAME:EDT
DTSTART:20270314T070000
END:DAYLIGHT
BEGIN:STANDARD
TZOFFSETFROM:-0400
TZOFFSETTO:-0500
TZNAME:EST
DTSTART:20271107T060000
END:STANDARD
END:VTIMEZONE
BEGIN:VEVENT
DTSTART;TZID=America/Toronto:20260421T090000
DTEND;TZID=America/Toronto:20260421T110000
DTSTAMP:20260421T062345
CREATED:20260323T155950Z
LAST-MODIFIED:20260323T155950Z
UID:10000295-1776762000-1776769200@www.vpi-inc.com
SUMMARY:Identifying your Strengths and Skills
DESCRIPTION:Taking stock of your strengths and abilities before entering the job market can greatly improve your chances of success. This workshop offers a comprehensive approach to identifying your skills\, strengths\, and personal achievements\, helping you gain the confidence to pitch them effectively to potential employers. By the end of the session\, you’ll have a clear understanding of your value as a candidate and be better equipped to make a lasting impression in the job market.
URL:https://www.vpi-inc.com/event/identifying-your-strengths-and-skills-42/
ATTACH;FMTTYPE=image/jpeg:https://www.vpi-inc.com/wp-content/uploads/2025/03/iStock-1666371053.jpg
END:VEVENT
BEGIN:VEVENT
DTSTART;TZID=America/Toronto:20260422T090000
DTEND;TZID=America/Toronto:20260422T110000
DTSTAMP:20260421T062345
CREATED:20260323T160131Z
LAST-MODIFIED:20260323T160131Z
UID:10000296-1776848400-1776855600@www.vpi-inc.com
SUMMARY:Resume & Cover Letter Writing
DESCRIPTION:Do you want your resume and cover letter to stand out? Do you know the common mistakes that can make your application rejected? In this workshop\, you will learn how to craft an impressive resume and cover letter that will grab the employer’s attention. You’ll also discover the “don’ts” of resume and cover letter writing\, giving you the skills to avoid common mistakes and make a great first impression.
URL:https://www.vpi-inc.com/event/resume-cover-letter-writing-8/
ATTACH;FMTTYPE=image/jpeg:https://www.vpi-inc.com/wp-content/uploads/2025/03/iStock-1704590314.jpg
END:VEVENT
BEGIN:VEVENT
DTSTART;TZID=America/Toronto:20260423T090000
DTEND;TZID=America/Toronto:20260423T110000
DTSTAMP:20260421T062345
CREATED:20260323T160251Z
LAST-MODIFIED:20260323T160251Z
UID:10000297-1776934800-1776942000@www.vpi-inc.com
SUMMARY:Ace Your Job Interview
DESCRIPTION:With employers increasingly emphasizing the importance of a good fit\, the job interview has become more critical than ever. This workshop will equip you with the necessary tools to prepare for an interview\, manage stress\, communicate your experience effectively\, and handle difficult questions with confidence. By mastering these interview skills\, you’ll be better equipped to land the job you desire.
URL:https://www.vpi-inc.com/event/ace-your-job-interview-46/
ATTACH;FMTTYPE=image/jpeg:https://www.vpi-inc.com/wp-content/uploads/2025/09/iStock-1407182786.jpg
END:VEVENT
BEGIN:VEVENT
DTSTART;TZID=America/Toronto:20260424T133000
DTEND;TZID=America/Toronto:20260424T150000
DTSTAMP:20260421T062345
CREATED:20260323T050329Z
LAST-MODIFIED:20260331T195935Z
UID:10000293-1777037400-1777042800@www.vpi-inc.com
SUMMARY:Security Industry Interview Preparation
DESCRIPTION:Join us in this interview preparation workshop specific for Security guard roles.
URL:https://www.vpi-inc.com/event/security-industry-interview-preparation/
ATTACH;FMTTYPE=image/jpeg:https://www.vpi-inc.com/wp-content/uploads/2025/03/iStock-1282454123.jpg
END:VEVENT
BEGIN:VEVENT
DTSTART;TZID=America/Toronto:20260429T090000
DTEND;TZID=America/Toronto:20260429T110000
DTSTAMP:20260421T062345
CREATED:20260323T160449Z
LAST-MODIFIED:20260323T160449Z
UID:10000298-1777453200-1777460400@www.vpi-inc.com
SUMMARY:Ace Your Job Interview
DESCRIPTION:With employers increasingly emphasizing the importance of a good fit\, the job interview has become more critical than ever. This workshop will equip you with the necessary tools to prepare for an interview\, manage stress\, communicate your experience effectively\, and handle difficult questions with confidence. By mastering these interview skills\, you’ll be better equipped to land the job you desire.
URL:https://www.vpi-inc.com/event/ace-your-job-interview-47/
ATTACH;FMTTYPE=image/jpeg:https://www.vpi-inc.com/wp-content/uploads/2025/02/iStock-2165445335.jpg
END:VEVENT
BEGIN:VEVENT
DTSTART;TZID=America/Toronto:20260430T090000
DTEND;TZID=America/Toronto:20260430T110000
DTSTAMP:20260421T062345
CREATED:20260323T160613Z
LAST-MODIFIED:20260323T160613Z
UID:10000299-1777539600-1777546800@www.vpi-inc.com
SUMMARY:Introduction to LinkedIn
DESCRIPTION:If you’re new to LinkedIn and need assistance setting up your account\, this workshop is for you. You’ll receive guidance on the basics of LinkedIn\, the essential sections necessary for a complete profile\, and a step-by-step demonstration of how to set up your profile.
URL:https://www.vpi-inc.com/event/introduction-to-linkedin/
ATTACH;FMTTYPE=image/jpeg:https://www.vpi-inc.com/wp-content/uploads/2025/02/iStock-1146472948.jpg
END:VEVENT
END:VCALENDAR